BEGIN:VCALENDAR
VERSION:2.0
PRODID:-//The Friends of Tewkesbury Abbey - ECPv6.15.20//NONSGML v1.0//EN
CALSCALE:GREGORIAN
METHOD:PUBLISH
X-ORIGINAL-URL:https://www.friendsoftewkesburyabbey.org.uk
X-WR-CALDESC:Events for The Friends of Tewkesbury Abbey
REFRESH-INTERVAL;VALUE=DURATION:PT1H
X-Robots-Tag:noindex
X-PUBLISHED-TTL:PT1H
BEGIN:VTIMEZONE
TZID:Europe/London
BEGIN:DAYLIGHT
TZOFFSETFROM:+0000
TZOFFSETTO:+0100
TZNAME:BST
DTSTART:20230326T010000
END:DAYLIGHT
BEGIN:STANDARD
TZOFFSETFROM:+0100
TZOFFSETTO:+0000
TZNAME:GMT
DTSTART:20231029T010000
END:STANDARD
BEGIN:DAYLIGHT
TZOFFSETFROM:+0000
TZOFFSETTO:+0100
TZNAME:BST
DTSTART:20240331T010000
END:DAYLIGHT
BEGIN:STANDARD
TZOFFSETFROM:+0100
TZOFFSETTO:+0000
TZNAME:GMT
DTSTART:20241027T010000
END:STANDARD
BEGIN:DAYLIGHT
TZOFFSETFROM:+0000
TZOFFSETTO:+0100
TZNAME:BST
DTSTART:20250330T010000
END:DAYLIGHT
BEGIN:STANDARD
TZOFFSETFROM:+0100
TZOFFSETTO:+0000
TZNAME:GMT
DTSTART:20251026T010000
END:STANDARD
BEGIN:DAYLIGHT
TZOFFSETFROM:+0000
TZOFFSETTO:+0100
TZNAME:BST
DTSTART:20260329T010000
END:DAYLIGHT
BEGIN:STANDARD
TZOFFSETFROM:+0100
TZOFFSETTO:+0000
TZNAME:GMT
DTSTART:20261025T010000
END:STANDARD
BEGIN:DAYLIGHT
TZOFFSETFROM:+0000
TZOFFSETTO:+0100
TZNAME:BST
DTSTART:20270328T010000
END:DAYLIGHT
BEGIN:STANDARD
TZOFFSETFROM:+0100
TZOFFSETTO:+0000
TZNAME:GMT
DTSTART:20271031T010000
END:STANDARD
END:VTIMEZONE
BEGIN:VEVENT
DTSTART;TZID=Europe/London:20240510T190000
DTEND;TZID=Europe/London:20240510T210000
DTSTAMP:20260419T143308
CREATED:20240405T152307Z
LAST-MODIFIED:20240406T094942Z
UID:2013-1715367600-1715374800@www.friendsoftewkesburyabbey.org.uk
SUMMARY:Cheese & Wine Quiz Evening
DESCRIPTION:A sponsored fundraising event\, all proceeds will go to The Friends of Tewkesbury Abbey \n\n\n\n\nFor the Quiz teams will be groups of 6.  \n\n\n\nEither purchase 6 tickets and come as a group of 6 or purchase 1-5 tickets and be allocated to a team on the evening. \n\n\n\nTickets may be purchased online via the link below – enter the number of tickets to be purchased and then click ‘Get Tickets’ to be taken to the secure payment portal. Tickets are also on sale in the Abbey Shop.
URL:https://www.friendsoftewkesburyabbey.org.uk/event/cheese-wine-quiz-evening/
LOCATION:Parish Hall\, Tewkesbury Abbey\, Church Street\, Tewkesbury\, GL20 5RZ
CATEGORIES:At the Abbey
ATTACH;FMTTYPE=image/png:https://www.friendsoftewkesburyabbey.org.uk/wp-content/uploads/2024/04/FoTA_Quiz_Image.png
ORGANIZER;CN="The Events Committee%2C The Friends of Tewkesbury Abbey":MAILTO:events@friendsoftewkesburyabbey.org.uk
END:VEVENT
BEGIN:VEVENT
DTSTART;TZID=Europe/London:20240630T103000
DTEND;TZID=Europe/London:20240630T180000
DTSTAMP:20260419T143308
CREATED:20230818T112427Z
LAST-MODIFIED:20240515T110139Z
UID:1383-1719743400-1719770400@www.friendsoftewkesburyabbey.org.uk
SUMMARY:Friends' Festival 2024
DESCRIPTION:Due to a change to the regular service pattern at the Abbey it is necessary to move the date of the annual Friends’ Festival. From 2024 the Friends’ Festival (including the AGM) will now be held on the LAST SUNDAY IN JUNE each year. \n\n\n\nThe Friends’ Festival date for 2024 is therefore SUNDAY 30TH JUNE  \n\n\n\n\n\n\n\n\nProgramme for the Friends’ Festival – Sunday 30th June\n\n\n\nThe Right Reverend David Charlesworth O.S.B. Abbot of Buckfast and Titular Abbot of Tewkesbury will be Guest of Honour for the day\, and will be the preacher at the Choral Eucharist \n\n\n\n10.30am Choral Eucharist\n\n\n\nPresident: Reverend Canon Nick Davies\, Vicar of Tewkesbury \n\n\n\n12.30pm Bring and Share Lunch\n\n\n\nPlease take your contribution to the Tea Room before the morning service. Wine and soft-drinks will be provided \n\n\n\n2.00pm Annual General Meeting to be held in the Parish Hall\n\n\n\nThe Chair\, Vice-Chair\, Treasurer and 4 Council members will be elected at this meeting. The nomination form can be downloaded from this link. The closing date for nominations is Sunday 23rd June \n\n\n\nc.2.30pm A Presentation by the Vicar of Tewkesbury\, Revd Canon Nick Davies\n\n\n\n\n\n\n\n4.00pm Afternoon Tea\n\n\n\n\n\n\n\n5.00pm Festival Evensong
URL:https://www.friendsoftewkesburyabbey.org.uk/event/friends-festival-2024/
CATEGORIES:Friends Festival
ATTACH;FMTTYPE=image/png:https://www.friendsoftewkesburyabbey.org.uk/wp-content/uploads/2023/10/OddoDoddo.png
END:VEVENT
BEGIN:VEVENT
DTSTART;TZID=Europe/London:20240701T093000
DTEND;TZID=Europe/London:20240701T130000
DTSTAMP:20260419T143308
CREATED:20240515T103845Z
LAST-MODIFIED:20240517T124642Z
UID:2103-1719826200-1719838800@www.friendsoftewkesburyabbey.org.uk
SUMMARY:Friends' Visit to Worcester Cathedral
DESCRIPTION:On the 1st of July\, The Friends of Tewkesbury Abbey invite you to embark on a journey through time and marvel at the magnificent Worcester Cathedral\, a masterpiece of medieval architecture nestled in the heart of Worcestershire\, England. As you step through its ancient doors\, you’ll be transported back centuries\, enveloped in the rich history and spiritual significance of this sacred site. \n\n\n\nAs you approach the cathedral\, your eyes are drawn upwards to the imposing façade\, adorned with intricate carvings and majestic spires that reach towards the heavens. The intricate stonework tells stories of generations past\, each detail a testament to the skill and devotion of the craftsmen who built this awe-inspiring edifice. \n\n\n\n\n\nInside\, the grandeur of Worcester Cathedral unfolds before you. High vaulted ceilings soar overhead\, illuminated by streams of sunlight filtering through stained glass windows that cast a kaleidoscope of colours across the stone floors. Take a moment to admire the intricate beauty of these ancient windows\, each panel a masterpiece of artistry and faith. \n\n\n\nAs you wander through the hallowed halls\, you’ll encounter treasures at every turn. From the majestic nave to the serene cloisters\, every corner of the cathedral holds secrets waiting to be discovered. Marvel at the intricately carved choir stalls\, adorned with delicate foliage and mythical creatures\, or pay homage at the shrine of St. Wulstan\, the cathedral’s revered patron saint. \n\n\n\n\n\nOutside\, the cathedral grounds offer a tranquil retreat from the hustle and bustle of modern life. Take a leisurely stroll through the cloister garden\, where fragrant blooms mingle with the sweet scent of freshly cut grass. Sit for a while on a sun-warmed bench and soak in the peaceful atmosphere\, surrounded by centuries of history and tradition. \n\n\n\nWhether you come to Worcester Cathedral for spiritual solace\, architectural inspiration\, or simply to immerse yourself in the beauty of the past\, your visit on the 1st of July promises to be a journey of discovery and wonder. So\, mark your calendar\, pack your sense of adventure\, and prepare to be enchanted by one of England’s most cherished cultural treasures. \n\n\n\n\nTickets are available from the Abbey shop\, and online using the purchase button below
URL:https://www.friendsoftewkesburyabbey.org.uk/event/friends-visit-to-worcester-cathedral/
CATEGORIES:Visits
ATTACH;FMTTYPE=image/png:https://www.friendsoftewkesburyabbey.org.uk/wp-content/uploads/2024/05/WorcsCath1.png
END:VEVENT
BEGIN:VEVENT
DTSTART;TZID=Europe/London:20241008T190000
DTEND;TZID=Europe/London:20241008T210000
DTSTAMP:20260419T143308
CREATED:20240907T122502Z
LAST-MODIFIED:20240907T123340Z
UID:2183-1728414000-1728421200@www.friendsoftewkesburyabbey.org.uk
SUMMARY:Friends' Autumn Lecture - Dr Ellie March
DESCRIPTION:Beyond the Abbey Church: An Examination of Tewkesbury’s Medieval Monastic Precinct\n\n\n\n\n\n\n\nDr Ellie March\, University of Exeter and Friends’ Scholar\n\n\n\n\n\n\n\nThe talk will be held in The Parish Hall\, Tewkesbury Abbey centre\, Church Street\, Tewkesbury\, GL20 5RZ \n\n\n\n\n\n\n\n\n\nTickets are also on sale in the Abbey Shop
URL:https://www.friendsoftewkesburyabbey.org.uk/event/friends-autumn-lecture-dr-ellie-march/
CATEGORIES:At the Abbey
ATTACH;FMTTYPE=image/png:https://www.friendsoftewkesburyabbey.org.uk/wp-content/uploads/2024/09/Geophysics_Abbey_web.png
END:VEVENT
BEGIN:VEVENT
DTSTART;TZID=Europe/London:20250412T190000
DTEND;TZID=Europe/London:20250412T213000
DTSTAMP:20260419T143308
CREATED:20241130T151844Z
LAST-MODIFIED:20250619T140252Z
UID:2303-1744484400-1744493400@www.friendsoftewkesburyabbey.org.uk
SUMMARY:Fitzhamon Lecture 2025
DESCRIPTION:The Chief Glory of the Quire\n\n\n\n\nThe survival and the restoration of the 14th century stained glass in the presbytery at Tewkesbury Abbey. \n\n\n\n\n2025 marks the occasion of the 100th Anniversary of the Kempe and Co restoration of the stained glass windows in the presbytery\, so it is fitting that the theme for this year’s lecture will be the medieval stained glass of Tewkesbury Abbey. \n\n\n\nThe lecturer will be conservator Jim Budd ACR. Jim set up his stained glass studio in Herefordshire in 1986. He has worked on the stained glass at Hereford Cathedral since 1988 and completed several other conservation\, repair and restoration contracts for cathedrals and churches\, including work at Tewkesbury Abbey in 2013 and 2014. Jim has been an Accredited Conservator at ICON (the Institute of Conservation) since 2017 and has twice been awarded the Moat Memorial Prize by the Worshipful Company of Glaziers for reports on the 16th century stained glass at St Michael’s Church\, Munslow\, and the 1821 Joseph Backler window at St Thomas and St Luke’s Church\, Dudley.
URL:https://www.friendsoftewkesburyabbey.org.uk/event/fitzhamon-lecture-2025/
CATEGORIES:At the Abbey
ATTACH;FMTTYPE=image/jpeg:https://www.friendsoftewkesburyabbey.org.uk/wp-content/uploads/2024/11/g4_comp.jpg
END:VEVENT
BEGIN:VEVENT
DTSTART;TZID=Europe/London:20250629T103000
DTEND;TZID=Europe/London:20250629T180000
DTSTAMP:20260419T143308
CREATED:20250519T113428Z
LAST-MODIFIED:20250519T134001Z
UID:2501-1751193000-1751220000@www.friendsoftewkesburyabbey.org.uk
SUMMARY:Friends' Festival 2025
DESCRIPTION:Programme for the Friends’ Festival Sunday 29th June \n\n\n\n\n\n\n\n\n10.30am Choral Eucharist\n\n\n\nPreacher: The Revd Canon Dr Malcolm Brown\, lately Director of the Ministry and Public Affairs Division\, Archbishops Council\, Lambeth. \n\n\n\n12.15pm Bring and Share Lunch in the parish hall\n\n\n\nPlease take your contribution to the Tea Room before the morning service. Wine and soft-drinks will be provided. \n\n\n\n2.00pm Annual General Meeting\n\n\n\nfollowed by \n\n\n\nc2.30pm Guest Speaker\n\n\n\nThe Revd Canon Dr Malcolm Brown \n\n\n\n4.00pm Afternoon Tea\n\n\n\n\n\n\n\n5.00pm Festival Evensong
URL:https://www.friendsoftewkesburyabbey.org.uk/event/friends-festival-2025/
CATEGORIES:Friends Festival
ATTACH;FMTTYPE=image/png:https://www.friendsoftewkesburyabbey.org.uk/wp-content/uploads/2023/10/OddoDoddo.png
END:VEVENT
BEGIN:VEVENT
DTSTART;TZID=Europe/London:20250701T103000
DTEND;TZID=Europe/London:20250701T163000
DTSTAMP:20260419T143308
CREATED:20250519T135834Z
LAST-MODIFIED:20250519T152558Z
UID:2510-1751365800-1751387400@www.friendsoftewkesburyabbey.org.uk
SUMMARY:Summer Excursion to Great Witley Church
DESCRIPTION:An Enchanting Day of Music\, History\, and Hidden Gardens – Join Us!\n\n\n\n\n\n\n\nThe Friends of Tewkesbury Abbey are delighted to invite you on a very special summer outing to one of Worcestershire’s most dazzling hidden treasures – St Michael and All Angels Church\, Great Witley\, on a day rich with exclusive access\, beautiful surroundings\, and fine company. \n\n\n\nCost for travel\, tour of the Church\, exclusive tour and entry to the Crypt\, and Buffet lunch is £36.50\n\n\n\n\n\n\n\n\nA Baroque Gem and a Musical Treat\n\n\n\nGreat Witley Church is widely regarded as the finest Baroque church in England. With its stunning gilded interior\, ceiling frescoes\, and lavish decoration\, it is a jewel in the countryside. \n\n\n\nWe are honoured that the Friends will be treated to a private organ recital by the renowned James Lancelot. James’s extraordinary musicianship\, coupled with the church’s remarkable organ – a historic instrument that has long drawn organists from far and wide – promises a moving and memorable performance in the majestic setting of the church. \n\n\n\n\nExclusive Access: The Crypt Unveiled\n\n\n\nAdding a touch of intrigue to our day\, we are being granted special access to the church’s crypt\, which remains closed to the public. This rare opportunity includes a private tour and talk\, allowing us to uncover the secrets of this atmospheric and historically rich space. \n\n\n\nGuided Church Tour\n\n\n\nFollowing the recital and crypt visit\, we will enjoy a guided tour of the church\, exploring its fascinating history\, art\, and architecture in greater depth. With expert commentary\, the story of Great Witley Church will come vividly to life. \n\n\n\nLunch in the Secret Garden\n\n\n\nJust a short and gentle walk away\, we will retreat to the charming Secret Garden Tearooms\, where a delicious lunch awaits us in the private conservatory. Overlooking the gardens\, this is the perfect spot to relax and enjoy good food and conversation in the company of fellow Friends. \n\n\n\nExplore Witley Court and Gardens (Optional)\n\n\n\nFor those wishing to extend the experience\, there will be ample time to visit the spectacular Witley Court and Gardens\, just next door. Now cared for by English Heritage\, this ruined Italianate mansion and its restored fountains and parkland offer a romantic and tranquil setting to explore. Entry is free for English Heritage members\, and we encourage those without membership and interested in visiting to pre-order tickets online individually ahead of time\, as prices are more favourable than purchasing at the door. \n\n\n\n\n\n\n\n\n\n\n\nTravel & Timing\n\n\n\nWe will be departing from The Crescent\, Tewkesbury at 10.30am\, and expect to return no later than 4:30pm. Transport will be arranged for all attendees. \n\n\n\nThis promises to be a day of rare access\, uplifting music\, warm fellowship\, and a feast for the senses – not to be missed!
URL:https://www.friendsoftewkesburyabbey.org.uk/event/summer-excursion-to-great-witley-church/
CATEGORIES:Visits
ATTACH;FMTTYPE=image/jpeg:https://www.friendsoftewkesburyabbey.org.uk/wp-content/uploads/2025/05/WorcestershireGREATWITLEYStMichaelAllAngels.jeg_.jpeg
END:VEVENT
BEGIN:VEVENT
DTSTART;TZID=Europe/London:20251112T190000
DTEND;TZID=Europe/London:20251112T210000
DTSTAMP:20260419T143308
CREATED:20251005T190000Z
LAST-MODIFIED:20251005T183830Z
UID:2639-1762974000-1762981200@www.friendsoftewkesburyabbey.org.uk
SUMMARY:An Evening with Coro Camino
DESCRIPTION:Come and enjoy an uplifting evening of music in the Parish Hall within the beautiful surroundings of Tewkesbury Abbey with Coro Camino – a unique chamber choir of 12 voices who combine their passion for singing and pilgrimage. \n\n\n\nFormed in 2019\, Coro Camino first sang in a pilgrim hostel orchard in Spain\, while walking the famous Camino de Santiago. Since then\, they have performed in churches and venues across Gloucestershire\, Worcestershire and beyond. In 2021 they undertook a special local pilgrimage\, walking from Tewkesbury Abbey to Gloucester Cathedral\, singing along the way and performing in the church at Ashleworth before concluding at the Cathedral. Their repertoire blends sacred and secular music\, inspired by the spirit of journey\, fellowship and worship. \n\n\n\nThe ticket price includes refreshments. \n\n\n\nThe Parish Hall is in the building at the front of the Abbey\, on Church Street\, with level access available. \n\n\n\n\n\n\n\n\nNEW MEMBER OFFER AT THIS EVENT\n\n\n\nComplete the form to join the Friends at this event and your first 6 months of membership will be free – nothing to pay until May 2026! Purchase your ticket and simply hand in a completed application at the door before you leave the event. There will be a supply of membership application forms available on the evening. \n\n\n\n\n\n\n\n\n\n\n\n\n\n\n\n\n\nTicket Reservation Enquiry\n\n\n\nIf you are unable to purchase a ticket online\, or are making a ticket reservation enquiry\, please complete the enquiry form below. An alternative method of payment may be available. Please note that tickets will be allocated on a ‘first come\, first served’ basis. \n\n\nPlease enable JavaScript in your browser to complete this form.Please enable JavaScript in your browser to complete this form.Event Name *How many tickets are you looking to reserve? *What method of payment do you want to use for purchase? *		\n			a we What\n			\n		\n		Your name (first name and surname please) *How may we contact you? *Please add a telephone number or email addressAre you a member of the Friends of Tewkesbury Abbey? *YesNoPlease note that ticket allocation is on a ‘first come’ basisSubmit
URL:https://www.friendsoftewkesburyabbey.org.uk/event/an-evening-with-coro-camino/
CATEGORIES:At the Abbey
ATTACH;FMTTYPE=image/jpeg:https://www.friendsoftewkesburyabbey.org.uk/wp-content/uploads/2025/10/Coro-Camino_FI.jpg
END:VEVENT
BEGIN:VEVENT
DTSTART;TZID=Europe/London:20260425T190000
DTEND;TZID=Europe/London:20260425T213000
DTSTAMP:20260419T143308
CREATED:20251214T150607Z
LAST-MODIFIED:20260409T200155Z
UID:2731-1777143600-1777152600@www.friendsoftewkesburyabbey.org.uk
SUMMARY:Fitzhamon Lecture 2026
DESCRIPTION:Tewkesbury Abbey in the Late Middle Ages\n\n\n\n\nThe later middle ages has often been seen as a period of stagnation or even decline for English monasteries. Tewkesbury Abbey\, however\, remained buoyant throughout the fourteenth and fifteenth centuries\, finding ways to boost its endowment and status and to maintain close relations with its lay patrons. This talk will trace the late medieval fortunes of the monastery\, highlighting key developments and challenges\, and placing Tewkesbury Abbey in a wider monastic context\nMartin Heale\, FRHS\n\n\n\n\n\nProfessor of Late Medieval and Reformation History at the University of Liverpool \n\n\n\nProfessor Heale has published widely on the social and religious history of late medieval and early modern England\, with a particular focus on the monastic orders. His books include Monasticism in Late Medieval England\, c1300-1535 and The Abbots and Priors of Late Medieval and Reformation England. \n\n\n\nTickets are available below\, and can also be reserved in the Abbey Shop. \n\n\n\n\n\n\n\n 
URL:https://www.friendsoftewkesburyabbey.org.uk/event/fitzhamon-lecture-2026/
CATEGORIES:At the Abbey
ATTACH;FMTTYPE=image/jpeg:https://www.friendsoftewkesburyabbey.org.uk/wp-content/uploads/2026/03/FitzLecture26ImageScldFI.jpg
END:VEVENT
END:VCALENDAR